BEGIN:VCALENDAR
VERSION:2.0
PRODID:-//Schützenverein Maschen//NONSGML kigkonsult.se iCalcreator 2.20//
CALSCALE:GREGORIAN
METHOD:PUBLISH
X-WR-TIMEZONE:Europe/Berlin
X-WR-CALNAME:Calendar
X-WR-CALDESC:Calendar Description
BEGIN:VTIMEZONE
TZID:Europe/Berlin
X-LIC-LOCATION:Europe/Berlin
BEGIN:STANDARD
DTSTART:20251026T030000
TZOFFSETFROM:+0200
TZOFFSETTO:+0100
RDATE:20261025T030000
TZNAME:CET
END:STANDARD
BEGIN:DAYLIGHT
DTSTART:20260329T020000
TZOFFSETFROM:+0100
TZOFFSETTO:+0200
TZNAME:CEST
END:DAYLIGHT
END:VTIMEZONE
BEGIN:VEVENT
UID:event641@Schützenverein Maschen
DTSTAMP:20260421T131955Z
CATEGORIES:Verein
DESCRIPTION:Tag der offenen Tür SV Stelle (Kameradsch.Veranst.)\nKategorie:
  Verein\nICS-Link: https://schuetzenverein-maschen.de/index.php?option=com
 _jem&view=event&id=641:tag-der-offenen-tuer-sv-stelle-kameradsch-veranst&I
 temid=122\n
DTSTART:20260502T180000
DTEND:20260502T180000
LOCATION:Schützenhaus Stelle\,Hinter der Bahn\,Stelle
SUMMARY:Tag der offenen Tür SV Stelle (Kameradsch.Veranst.)
URL:https://schuetzenverein-maschen.de/index.php?option=com_jem&view=event&
 id=641:tag-der-offenen-tuer-sv-stelle-kameradsch-veranst&Itemid=122
END:VEVENT
BEGIN:VEVENT
UID:event664@Schützenverein Maschen
DTSTAMP:20260421T131955Z
CATEGORIES:Verein
DESCRIPTION:Kameradschaftsschützenfest in Stelle\nKategorie: Verein\nICS-Li
 nk: https://schuetzenverein-maschen.de/index.php?option=com_jem&view=event
 &id=664:kameradschaftsschuetzenfest-in-stelle&Itemid=122\n
DTSTART:20260815T170000
DTEND:20260815T170000
LOCATION:Schützenhaus Stelle\,Hinter der Bahn\,Stelle
SUMMARY:Kameradschaftsschützenfest in Stelle
URL:https://schuetzenverein-maschen.de/index.php?option=com_jem&view=event&
 id=664:kameradschaftsschuetzenfest-in-stelle&Itemid=122
END:VEVENT
BEGIN:VEVENT
UID:event665@Schützenverein Maschen
DTSTAMP:20260421T131955Z
CATEGORIES:Verein
DESCRIPTION:Schützenessen in Stelle\nKategorie: Verein\nICS-Link: https://s
 chuetzenverein-maschen.de/index.php?option=com_jem&view=event&id=665:schue
 tzenessen-in-stelle&Itemid=122\n
DTSTART:20260816T113000
DTEND:20260816T113000
LOCATION:Schützenhaus Stelle\,Hinter der Bahn\,Stelle
SUMMARY:Schützenessen in Stelle
URL:https://schuetzenverein-maschen.de/index.php?option=com_jem&view=event&
 id=665:schuetzenessen-in-stelle&Itemid=122
END:VEVENT
END:VCALENDAR
