BEGIN:VCALENDAR
VERSION:2.0
PRODID:-//Schützenverein Maschen//NONSGML kigkonsult.se iCalcreator 2.20//
CALSCALE:GREGORIAN
METHOD:PUBLISH
X-WR-TIMEZONE:Europe/Berlin
X-WR-CALNAME:Calendar
X-WR-CALDESC:Calendar Description
BEGIN:VTIMEZONE
TZID:Europe/Berlin
X-LIC-LOCATION:Europe/Berlin
BEGIN:STANDARD
DTSTART:20251026T030000
TZOFFSETFROM:+0200
TZOFFSETTO:+0100
RDATE:20261025T030000
TZNAME:CET
END:STANDARD
BEGIN:DAYLIGHT
DTSTART:20260329T020000
TZOFFSETFROM:+0100
TZOFFSETTO:+0200
TZNAME:CEST
END:DAYLIGHT
END:VTIMEZONE
BEGIN:VEVENT
UID:event628@Schützenverein Maschen
DTSTAMP:20260425T225242Z
CATEGORIES:Verein
DESCRIPTION:Bild einhängen\nKategorie: Verein\nICS-Link: https://schuetzenv
 erein-maschen.de/index.php?option=com_jem&view=event&id=628:bild-einhaenge
 n&Itemid=122\n
DTSTART:20260123T190000
DTEND:20260123T190000
LOCATION:Clubraum Schützenverein  Maschen\,Maschener Schützenstraße 50\,212
 20 Seevetal - Maschen
SUMMARY:Bild einhängen
URL:https://schuetzenverein-maschen.de/index.php?option=com_jem&view=event&
 id=628:bild-einhaengen&Itemid=122
END:VEVENT
END:VCALENDAR
