BEGIN:VCALENDAR
VERSION:2.0
PRODID:-//Schützenverein Maschen//NONSGML kigkonsult.se iCalcreator 2.20//
CALSCALE:GREGORIAN
METHOD:PUBLISH
X-WR-TIMEZONE:Europe/Berlin
X-WR-CALNAME:Calendar
X-WR-CALDESC:Calendar Description
BEGIN:VTIMEZONE
TZID:Europe/Berlin
X-LIC-LOCATION:Europe/Berlin
BEGIN:STANDARD
DTSTART:20251026T030000
TZOFFSETFROM:+0200
TZOFFSETTO:+0100
RDATE:20261025T030000
TZNAME:CET
END:STANDARD
BEGIN:DAYLIGHT
DTSTART:20260329T020000
TZOFFSETFROM:+0100
TZOFFSETTO:+0200
TZNAME:CEST
END:DAYLIGHT
END:VTIMEZONE
BEGIN:VEVENT
UID:event62@Schützenverein Maschen
DTSTAMP:20260426T040826Z
CATEGORIES:Schützenfest
DESCRIPTION:Zapfenstreich in Hittfeld\nKategorie: Schützenfest\nICS-Link: h
 ttps://schuetzenverein-maschen.de/index.php?option=com_jem&view=event&id=6
 2:zapfenstreich-in-hittfeld&Itemid=122\n
DTSTART:20160812T210000
DTEND:20160812T210000
SUMMARY:Zapfenstreich in Hittfeld
URL:https://schuetzenverein-maschen.de/index.php?option=com_jem&view=event&
 id=62:zapfenstreich-in-hittfeld&Itemid=122
END:VEVENT
END:VCALENDAR
