BEGIN:VCALENDAR
VERSION:2.0
PRODID:-//Schützenverein Maschen//NONSGML kigkonsult.se iCalcreator 2.20//
CALSCALE:GREGORIAN
METHOD:PUBLISH
X-WR-TIMEZONE:Europe/Berlin
X-WR-CALNAME:Calendar
X-WR-CALDESC:Calendar Description
BEGIN:VTIMEZONE
TZID:Europe/Berlin
X-LIC-LOCATION:Europe/Berlin
BEGIN:STANDARD
DTSTART:20251026T030000
TZOFFSETFROM:+0200
TZOFFSETTO:+0100
RDATE:20261025T030000
TZNAME:CET
END:STANDARD
BEGIN:DAYLIGHT
DTSTART:20260329T020000
TZOFFSETFROM:+0100
TZOFFSETTO:+0200
TZNAME:CEST
END:DAYLIGHT
END:VTIMEZONE
BEGIN:VEVENT
UID:event491@Schützenverein Maschen
DTSTAMP:20260424T015008Z
CATEGORIES:Schützenfest
DESCRIPTION:Mittwochstraining mit Preis- und Ordenschießen\nKategorie: Schü
 tzenfest\nICS-Link: https://schuetzenverein-maschen.de/index.php?option=co
 m_jem&view=event&id=491:mittwochstraining&Itemid=122\n
DTSTART:20240703T183000
DTEND:20240703T210000
LOCATION:Schießstand Schützenverein Maschen\,Maschener Schützenstraße 50\,2
 1220 Seevetal - Maschen
SUMMARY:Mittwochstraining mit Preis- und Ordenschießen
URL:https://schuetzenverein-maschen.de/index.php?option=com_jem&view=event&
 id=491:mittwochstraining&Itemid=122
END:VEVENT
END:VCALENDAR
