BEGIN:VCALENDAR
VERSION:2.0
PRODID:-//Schützenverein Maschen//NONSGML kigkonsult.se iCalcreator 2.20//
CALSCALE:GREGORIAN
METHOD:PUBLISH
X-WR-TIMEZONE:Europe/Berlin
X-WR-CALNAME:Calendar
X-WR-CALDESC:Calendar Description
BEGIN:VTIMEZONE
TZID:Europe/Berlin
X-LIC-LOCATION:Europe/Berlin
BEGIN:STANDARD
DTSTART:20251026T030000
TZOFFSETFROM:+0200
TZOFFSETTO:+0100
RDATE:20261025T030000
TZNAME:CET
END:STANDARD
BEGIN:DAYLIGHT
DTSTART:20260329T020000
TZOFFSETFROM:+0100
TZOFFSETTO:+0200
TZNAME:CEST
END:DAYLIGHT
END:VTIMEZONE
BEGIN:VEVENT
UID:event438@Schützenverein Maschen
DTSTAMP:20260425T230020Z
CATEGORIES:Verein
DESCRIPTION:Seevetalkönigsschießen und Seevetalpokalschießen Meckelfeld\nKa
 tegorie: Verein\nICS-Link: https://schuetzenverein-maschen.de/index.php?op
 tion=com_jem&view=event&id=438:seevetalkoenigsschiessen-und-seevetalpokals
 chiessen-meckelfeld&Itemid=122\n
DTSTART:20230910T113000
DTEND:20230910T173000
LOCATION:Schützenhaus Meckelfeld\,Appenstedter Weg 89a\,21217 Seevetal
SUMMARY:Seevetalkönigsschießen und Seevetalpokalschießen Meckelfeld
URL:https://schuetzenverein-maschen.de/index.php?option=com_jem&view=event&
 id=438:seevetalkoenigsschiessen-und-seevetalpokalschiessen-meckelfeld&Item
 id=122
END:VEVENT
END:VCALENDAR
