BEGIN:VCALENDAR
VERSION:2.0
PRODID:-//Schützenverein Maschen//NONSGML kigkonsult.se iCalcreator 2.20//
CALSCALE:GREGORIAN
METHOD:PUBLISH
X-WR-TIMEZONE:Europe/Berlin
X-WR-CALNAME:Calendar
X-WR-CALDESC:Calendar Description
BEGIN:VTIMEZONE
TZID:Europe/Berlin
X-LIC-LOCATION:Europe/Berlin
BEGIN:STANDARD
DTSTART:20251026T030000
TZOFFSETFROM:+0200
TZOFFSETTO:+0100
RDATE:20261025T030000
TZNAME:CET
END:STANDARD
BEGIN:DAYLIGHT
DTSTART:20260329T020000
TZOFFSETFROM:+0100
TZOFFSETTO:+0200
TZNAME:CEST
END:DAYLIGHT
END:VTIMEZONE
BEGIN:VEVENT
UID:event424@Schützenverein Maschen
DTSTAMP:20260426T022447Z
CATEGORIES:Verein
DESCRIPTION:Bildaufhängen von Jörg der Trommler\nKategorie: Verein\nICS-Lin
 k: https://schuetzenverein-maschen.de/index.php?option=com_jem&view=event&
 id=424:bildaufhaengen-von-joerg-der-trommler&Itemid=122\n
DTSTART:20230120T190000
DTEND:20230120T190000
LOCATION:Clubraum Schützenverein  Maschen\,Maschener Schützenstraße 50\,212
 20 Seevetal - Maschen
SUMMARY:Bildaufhängen von Jörg der Trommler
URL:https://schuetzenverein-maschen.de/index.php?option=com_jem&view=event&
 id=424:bildaufhaengen-von-joerg-der-trommler&Itemid=122
END:VEVENT
END:VCALENDAR
