BEGIN:VCALENDAR
VERSION:2.0
PRODID:-//Schützenverein Maschen//NONSGML kigkonsult.se iCalcreator 2.20//
CALSCALE:GREGORIAN
METHOD:PUBLISH
X-WR-TIMEZONE:Europe/Berlin
X-WR-CALNAME:Calendar
X-WR-CALDESC:Calendar Description
BEGIN:VTIMEZONE
TZID:Europe/Berlin
X-LIC-LOCATION:Europe/Berlin
BEGIN:STANDARD
DTSTART:20251026T030000
TZOFFSETFROM:+0200
TZOFFSETTO:+0100
RDATE:20261025T030000
TZNAME:CET
END:STANDARD
BEGIN:DAYLIGHT
DTSTART:20260329T020000
TZOFFSETFROM:+0100
TZOFFSETTO:+0200
TZNAME:CEST
END:DAYLIGHT
END:VTIMEZONE
BEGIN:VEVENT
UID:event406@Schützenverein Maschen
DTSTAMP:20260426T005629Z
CATEGORIES:Verein
DESCRIPTION:Pokalwoche in Ramelsloh\nKategorie: Verein\nICS-Link: https://s
 chuetzenverein-maschen.de/index.php?option=com_jem&view=event&id=406:pokal
 woche-in-ramelsloh&Itemid=122\n
DTSTART;VALUE=DATE:20230425
DTEND;VALUE=DATE:20230428
LOCATION:Schützenverein Ramelsloh\,Breite Straße 16\,21220 Seevetal - Ramel
 sloh
SUMMARY:Pokalwoche in Ramelsloh
URL:https://schuetzenverein-maschen.de/index.php?option=com_jem&view=event&
 id=406:pokalwoche-in-ramelsloh&Itemid=122
END:VEVENT
END:VCALENDAR
