BEGIN:VCALENDAR
VERSION:2.0
PRODID:-//Schützenverein Maschen//NONSGML kigkonsult.se iCalcreator 2.20//
CALSCALE:GREGORIAN
METHOD:PUBLISH
X-WR-TIMEZONE:Europe/Berlin
X-WR-CALNAME:Calendar
X-WR-CALDESC:Calendar Description
BEGIN:VTIMEZONE
TZID:Europe/Berlin
X-LIC-LOCATION:Europe/Berlin
BEGIN:STANDARD
DTSTART:20251026T030000
TZOFFSETFROM:+0200
TZOFFSETTO:+0100
RDATE:20261025T030000
TZNAME:CET
END:STANDARD
BEGIN:DAYLIGHT
DTSTART:20260329T020000
TZOFFSETFROM:+0100
TZOFFSETTO:+0200
TZNAME:CEST
END:DAYLIGHT
END:VTIMEZONE
BEGIN:VEVENT
UID:event334@Schützenverein Maschen
DTSTAMP:20260426T022354Z
CATEGORIES:Verein
DESCRIPTION:Festessen SV Glüsingen (Treffen um 11:30 Uhr)\nKategorie: Verei
 n\nICS-Link: https://schuetzenverein-maschen.de/index.php?option=com_jem&v
 iew=event&id=334:festessen-sv-gluesingen&Itemid=122\n
DTSTART:20220710T120000
DTEND:20220710T120000
LOCATION:Schützenhaus Fleestedt\, Bostelmannsweg 1\,21217  Seevetal-Fleeste
 dt
SUMMARY:Festessen SV Glüsingen (Treffen um 11:30 Uhr)
URL:https://schuetzenverein-maschen.de/index.php?option=com_jem&view=event&
 id=334:festessen-sv-gluesingen&Itemid=122
END:VEVENT
END:VCALENDAR
