BEGIN:VCALENDAR
VERSION:2.0
PRODID:-//Schützenverein Maschen//NONSGML kigkonsult.se iCalcreator 2.20//
CALSCALE:GREGORIAN
METHOD:PUBLISH
X-WR-TIMEZONE:Europe/Berlin
X-WR-CALNAME:Calendar
X-WR-CALDESC:Calendar Description
BEGIN:VTIMEZONE
TZID:Europe/Berlin
X-LIC-LOCATION:Europe/Berlin
BEGIN:STANDARD
DTSTART:20251026T030000
TZOFFSETFROM:+0200
TZOFFSETTO:+0100
RDATE:20261025T030000
TZNAME:CET
END:STANDARD
BEGIN:DAYLIGHT
DTSTART:20260329T020000
TZOFFSETFROM:+0100
TZOFFSETTO:+0200
TZNAME:CEST
END:DAYLIGHT
END:VTIMEZONE
BEGIN:VEVENT
UID:event130@Schützenverein Maschen
DTSTAMP:20260426T040919Z
CATEGORIES:Schützenfest
DESCRIPTION:Bürgerkönigsschießen und Gästeschießen\nKategorie: Schützenfest
 \nICS-Link: https://schuetzenverein-maschen.de/index.php?option=com_jem&vi
 ew=event&id=130:buergerkoenigsschiessen-und-gaesteschiessen&Itemid=122\n
DTSTART:20170702T150000
DTEND:20170702T150000
SUMMARY:Bürgerkönigsschießen und Gästeschießen
URL:https://schuetzenverein-maschen.de/index.php?option=com_jem&view=event&
 id=130:buergerkoenigsschiessen-und-gaesteschiessen&Itemid=122
END:VEVENT
END:VCALENDAR
